BEGIN:VCALENDAR
VERSION:2.0
PRODID:-//Einwohnergemeinde Wengi - ECPv5.14.1//NONSGML v1.0//EN
CALSCALE:GREGORIAN
METHOD:PUBLISH
X-WR-CALNAME:Einwohnergemeinde Wengi
X-ORIGINAL-URL:https://wengi-be.ch
X-WR-CALDESC:Veranstaltungen für Einwohnergemeinde Wengi
REFRESH-INTERVAL;VALUE=DURATION:PT1H
X-Robots-Tag:noindex
X-PUBLISHED-TTL:PT1H
BEGIN:VTIMEZONE
TZID:Europe/Zurich
BEGIN:DAYLIGHT
TZOFFSETFROM:+0100
TZOFFSETTO:+0200
TZNAME:CEST
DTSTART:20210328T010000
END:DAYLIGHT
BEGIN:STANDARD
TZOFFSETFROM:+0200
TZOFFSETTO:+0100
TZNAME:CET
DTSTART:20211031T010000
END:STANDARD
BEGIN:DAYLIGHT
TZOFFSETFROM:+0100
TZOFFSETTO:+0200
TZNAME:CEST
DTSTART:20220327T010000
END:DAYLIGHT
BEGIN:STANDARD
TZOFFSETFROM:+0200
TZOFFSETTO:+0100
TZNAME:CET
DTSTART:20221030T010000
END:STANDARD
END:VTIMEZONE
BEGIN:VEVENT
DTSTART;TZID=Europe/Zurich:20220428T120000
DTEND;TZID=Europe/Zurich:20220428T120000
DTSTAMP:20260419T165057
CREATED:20211207T073343Z
LAST-MODIFIED:20211207T073343Z
UID:18370-1651147200-1651147200@wengi-be.ch
SUMMARY:Mittagstisch
DESCRIPTION:
URL:https://wengi-be.ch/event/mittagstisch-4/
LOCATION:Pfarrstöckli\, Pfarrstöckli\, Frauchwilstrasse\, Wengi
GEO:47.0778651;7.3985196
X-APPLE-STRUCTURED-LOCATION;VALUE=URI;X-ADDRESS=Pfarrstöckli Pfarrstöckli Frauchwilstrasse Wengi;X-APPLE-RADIUS=500;X-TITLE=Pfarrstöckli\, Frauchwilstrasse:geo:7.3985196,47.0778651
END:VEVENT
BEGIN:VEVENT
DTSTART;TZID=Europe/Zurich:20220424T100000
DTEND;TZID=Europe/Zurich:20220424T100000
DTSTAMP:20260419T165057
CREATED:20211207T073222Z
LAST-MODIFIED:20211207T073222Z
UID:17204-1650794400-1650794400@wengi-be.ch
SUMMARY:Gottesdienst "Zu Gast in Schüpfen"
DESCRIPTION:
URL:https://wengi-be.ch/event/gottesdienst-zu-gast-in-schuepfen/
LOCATION:Kirche Schüpfen
END:VEVENT
BEGIN:VEVENT
DTSTART;TZID=Europe/Zurich:20220417T060000
DTEND;TZID=Europe/Zurich:20220417T060000
DTSTAMP:20260419T165057
CREATED:20211207T073107Z
LAST-MODIFIED:20211207T073107Z
UID:17202-1650175200-1650175200@wengi-be.ch
SUMMARY:Ostergottesdienst
DESCRIPTION:
URL:https://wengi-be.ch/event/ostergottesdienst/
LOCATION:Kirche Wengi\, Kirche\, Frauchwilstrasse 12\, Wengi
GEO:47.0826914;7.4003667
X-APPLE-STRUCTURED-LOCATION;VALUE=URI;X-ADDRESS=Kirche Wengi Kirche Frauchwilstrasse 12 Wengi;X-APPLE-RADIUS=500;X-TITLE=Kirche\, Frauchwilstrasse 12:geo:7.4003667,47.0826914
END:VEVENT
BEGIN:VEVENT
DTSTART;TZID=Europe/Zurich:20220414T170000
DTEND;TZID=Europe/Zurich:20220414T170000
DTSTAMP:20260419T165057
CREATED:20201210T075425Z
LAST-MODIFIED:20220321T105015Z
UID:16480-1649955600-1649955600@wengi-be.ch
SUMMARY:Friedenslicht
DESCRIPTION:
URL:https://wengi-be.ch/event/friedenslicht/
LOCATION:Kirche Wengi\, Kirche\, Frauchwilstrasse 12\, Wengi
GEO:47.0826914;7.4003667
X-APPLE-STRUCTURED-LOCATION;VALUE=URI;X-ADDRESS=Kirche Wengi Kirche Frauchwilstrasse 12 Wengi;X-APPLE-RADIUS=500;X-TITLE=Kirche\, Frauchwilstrasse 12:geo:7.4003667,47.0826914
END:VEVENT
BEGIN:VEVENT
DTSTART;TZID=Europe/Zurich:20220403T093000
DTEND;TZID=Europe/Zurich:20220403T093000
DTSTAMP:20260419T165057
CREATED:20211207T072148Z
LAST-MODIFIED:20211207T072148Z
UID:18366-1648978200-1648978200@wengi-be.ch
SUMMARY:Gottesdienst zum Thema 500 Jahre Kirche Wengi
DESCRIPTION:
URL:https://wengi-be.ch/event/gottesdienst-zum-thema-500-jahre-kirche-wengi/
LOCATION:Kirche Wengi\, Kirche\, Frauchwilstrasse 12\, Wengi
GEO:47.0826914;7.4003667
X-APPLE-STRUCTURED-LOCATION;VALUE=URI;X-ADDRESS=Kirche Wengi Kirche Frauchwilstrasse 12 Wengi;X-APPLE-RADIUS=500;X-TITLE=Kirche\, Frauchwilstrasse 12:geo:7.4003667,47.0826914
END:VEVENT
BEGIN:VEVENT
DTSTART;TZID=Europe/Zurich:20220325T140000
DTEND;TZID=Europe/Zurich:20220325T140000
DTSTAMP:20260419T165057
CREATED:20211207T071846Z
LAST-MODIFIED:20211207T071846Z
UID:17190-1648216800-1648216800@wengi-be.ch
SUMMARY:Seniorennachmittag\, Bilderreise Tansania mit Magdalena Daum
DESCRIPTION:
URL:https://wengi-be.ch/event/seniorennachmittag-bilderreise-tansania-mit-magdalena-daum/
LOCATION:Pfarrstöckli\, Pfarrstöckli\, Frauchwilstrasse\, Wengi
GEO:47.0778651;7.3985196
X-APPLE-STRUCTURED-LOCATION;VALUE=URI;X-ADDRESS=Pfarrstöckli Pfarrstöckli Frauchwilstrasse Wengi;X-APPLE-RADIUS=500;X-TITLE=Pfarrstöckli\, Frauchwilstrasse:geo:7.3985196,47.0778651
END:VEVENT
BEGIN:VEVENT
DTSTART;TZID=Europe/Zurich:20220320T100000
DTEND;TZID=Europe/Zurich:20220320T100000
DTSTAMP:20260419T165057
CREATED:20211207T071601Z
LAST-MODIFIED:20211207T071601Z
UID:18364-1647770400-1647770400@wengi-be.ch
SUMMARY:BFA-Eröffnungsgottesdienst
DESCRIPTION:
URL:https://wengi-be.ch/event/bfa-eroeffnungsgottesdienst/
LOCATION:Kirche Schüpfen
END:VEVENT
BEGIN:VEVENT
DTSTART;TZID=Europe/Zurich:20220317T120000
DTEND;TZID=Europe/Zurich:20220317T120000
DTSTAMP:20260419T165057
CREATED:20211207T071226Z
LAST-MODIFIED:20211207T071226Z
UID:18362-1647518400-1647518400@wengi-be.ch
SUMMARY:Mittagstisch
DESCRIPTION:
URL:https://wengi-be.ch/event/mittagstisch-3/
LOCATION:Pfarrstöckli\, Pfarrstöckli\, Frauchwilstrasse\, Wengi
GEO:47.0778651;7.3985196
X-APPLE-STRUCTURED-LOCATION;VALUE=URI;X-ADDRESS=Pfarrstöckli Pfarrstöckli Frauchwilstrasse Wengi;X-APPLE-RADIUS=500;X-TITLE=Pfarrstöckli\, Frauchwilstrasse:geo:7.3985196,47.0778651
END:VEVENT
BEGIN:VEVENT
DTSTART;TZID=Europe/Zurich:20220313T093000
DTEND;TZID=Europe/Zurich:20220313T093000
DTSTAMP:20260419T165057
CREATED:20211207T071035Z
LAST-MODIFIED:20211207T071035Z
UID:18361-1647163800-1647163800@wengi-be.ch
SUMMARY:Gottesdienst
DESCRIPTION:
URL:https://wengi-be.ch/event/gottesdienst/
LOCATION:Kirche Wengi\, Kirche\, Frauchwilstrasse 12\, Wengi
GEO:47.0826914;7.4003667
X-APPLE-STRUCTURED-LOCATION;VALUE=URI;X-ADDRESS=Kirche Wengi Kirche Frauchwilstrasse 12 Wengi;X-APPLE-RADIUS=500;X-TITLE=Kirche\, Frauchwilstrasse 12:geo:7.4003667,47.0826914
END:VEVENT
BEGIN:VEVENT
DTSTART;TZID=Europe/Zurich:20220304T193000
DTEND;TZID=Europe/Zurich:20220304T193000
DTSTAMP:20260419T165057
CREATED:20211207T070718Z
LAST-MODIFIED:20211207T070718Z
UID:18358-1646422200-1646422200@wengi-be.ch
SUMMARY:Weltgebetstag
DESCRIPTION:
URL:https://wengi-be.ch/event/weltgebetstag/
LOCATION:Pfarrstöckli\, Pfarrstöckli\, Frauchwilstrasse\, Wengi
GEO:47.0778651;7.3985196
X-APPLE-STRUCTURED-LOCATION;VALUE=URI;X-ADDRESS=Pfarrstöckli Pfarrstöckli Frauchwilstrasse Wengi;X-APPLE-RADIUS=500;X-TITLE=Pfarrstöckli\, Frauchwilstrasse:geo:7.3985196,47.0778651
END:VEVENT
BEGIN:VEVENT
DTSTART;TZID=Europe/Zurich:20220224T120000
DTEND;TZID=Europe/Zurich:20220224T120000
DTSTAMP:20260419T165057
CREATED:20211207T070543Z
LAST-MODIFIED:20211207T070543Z
UID:18357-1645704000-1645704000@wengi-be.ch
SUMMARY:Mittagstisch
DESCRIPTION:
URL:https://wengi-be.ch/event/mittagstisch-2/
LOCATION:Pfarrstöckli\, Pfarrstöckli\, Frauchwilstrasse\, Wengi
GEO:47.0778651;7.3985196
X-APPLE-STRUCTURED-LOCATION;VALUE=URI;X-ADDRESS=Pfarrstöckli Pfarrstöckli Frauchwilstrasse Wengi;X-APPLE-RADIUS=500;X-TITLE=Pfarrstöckli\, Frauchwilstrasse:geo:7.3985196,47.0778651
END:VEVENT
BEGIN:VEVENT
DTSTART;TZID=Europe/Zurich:20220220T093000
DTEND;TZID=Europe/Zurich:20220220T093000
DTSTAMP:20260419T165057
CREATED:20211207T070451Z
LAST-MODIFIED:20211207T070451Z
UID:17169-1645349400-1645349400@wengi-be.ch
SUMMARY:Gottesdienst "Zu Gast in Wengi"
DESCRIPTION:
URL:https://wengi-be.ch/event/gottesdienst-zu-gast-in-wengi/
LOCATION:Kirche Wengi\, Kirche\, Frauchwilstrasse 12\, Wengi
GEO:47.0826914;7.4003667
X-APPLE-STRUCTURED-LOCATION;VALUE=URI;X-ADDRESS=Kirche Wengi Kirche Frauchwilstrasse 12 Wengi;X-APPLE-RADIUS=500;X-TITLE=Kirche\, Frauchwilstrasse 12:geo:7.4003667,47.0826914
END:VEVENT
BEGIN:VEVENT
DTSTART;TZID=Europe/Zurich:20220218T190000
DTEND;TZID=Europe/Zurich:20220218T190000
DTSTAMP:20260419T165057
CREATED:20220117T091537Z
LAST-MODIFIED:20220117T091537Z
UID:17446-1645210800-1645210800@wengi-be.ch
SUMMARY:Taizégottesdienst
DESCRIPTION:
URL:https://wengi-be.ch/event/taizegottesdienst-6/
LOCATION:Kirche Wengi\, Kirche\, Frauchwilstrasse 12\, Wengi
GEO:47.0826914;7.4003667
X-APPLE-STRUCTURED-LOCATION;VALUE=URI;X-ADDRESS=Kirche Wengi Kirche Frauchwilstrasse 12 Wengi;X-APPLE-RADIUS=500;X-TITLE=Kirche\, Frauchwilstrasse 12:geo:7.4003667,47.0826914
END:VEVENT
BEGIN:VEVENT
DTSTART;TZID=Europe/Zurich:20220208T193000
DTEND;TZID=Europe/Zurich:20220208T213000
DTSTAMP:20260419T165057
CREATED:20211207T070157Z
LAST-MODIFIED:20211207T070157Z
UID:18355-1644348600-1644355800@wengi-be.ch
SUMMARY:Erwachsenenbildungsabend
DESCRIPTION:
URL:https://wengi-be.ch/event/erwachsenenbildungsabend-2/
LOCATION:Kirchgemeindehaus Grossaffoltern\, Bern\, Switzerland
GEO:46.9479739;7.4474468
END:VEVENT
BEGIN:VEVENT
DTSTART;TZID=Europe/Zurich:20220208T140000
DTEND;TZID=Europe/Zurich:20220208T140000
DTSTAMP:20260419T165057
CREATED:20211207T070020Z
LAST-MODIFIED:20211207T070020Z
UID:18354-1644328800-1644328800@wengi-be.ch
SUMMARY:Seniorennachmittag\, Mani Matter Lieder mit dem Troubadour Andreas Aeschlimann
DESCRIPTION:
URL:https://wengi-be.ch/event/seniorennachmittag-mani-matter-lieder-mit-dem-troubadour-andreas-aeschlimann/
LOCATION:Kirchgemeindehaus Rapperswil
END:VEVENT
BEGIN:VEVENT
DTSTART;TZID=Europe/Zurich:20220206T093000
DTEND;TZID=Europe/Zurich:20220206T093000
DTSTAMP:20260419T165057
CREATED:20211207T065657Z
LAST-MODIFIED:20211207T065657Z
UID:18352-1644139800-1644139800@wengi-be.ch
SUMMARY:Kirchensonntag / Einstieg 500 Jahre Kirche Wengi
DESCRIPTION:
URL:https://wengi-be.ch/event/kirchensonntag-einstieg-500-jahre-kirche-wengi/
LOCATION:Kirche Wengi\, Kirche\, Frauchwilstrasse 12\, Wengi
GEO:47.0826914;7.4003667
X-APPLE-STRUCTURED-LOCATION;VALUE=URI;X-ADDRESS=Kirche Wengi Kirche Frauchwilstrasse 12 Wengi;X-APPLE-RADIUS=500;X-TITLE=Kirche\, Frauchwilstrasse 12:geo:7.4003667,47.0826914
END:VEVENT
BEGIN:VEVENT
DTSTART;TZID=Europe/Zurich:20220205T133000
DTEND;TZID=Europe/Zurich:20220205T160000
DTSTAMP:20260419T165057
CREATED:20211207T065539Z
LAST-MODIFIED:20211207T065539Z
UID:18351-1644067800-1644076800@wengi-be.ch
SUMMARY:KiKi (KinderKirche)
DESCRIPTION:
URL:https://wengi-be.ch/event/kiki-kinderkirche/
LOCATION:Pfarrstöckli\, Pfarrstöckli\, Frauchwilstrasse\, Wengi
GEO:47.0778651;7.3985196
X-APPLE-STRUCTURED-LOCATION;VALUE=URI;X-ADDRESS=Pfarrstöckli Pfarrstöckli Frauchwilstrasse Wengi;X-APPLE-RADIUS=500;X-TITLE=Pfarrstöckli\, Frauchwilstrasse:geo:7.3985196,47.0778651
END:VEVENT
BEGIN:VEVENT
DTSTART;TZID=Europe/Zurich:20220128T193000
DTEND;TZID=Europe/Zurich:20220128T193000
DTSTAMP:20260419T165057
CREATED:20211206T152935Z
LAST-MODIFIED:20211206T152935Z
UID:18350-1643398200-1643398200@wengi-be.ch
SUMMARY:Kirchenkino
DESCRIPTION:
URL:https://wengi-be.ch/event/kirchenkino/
LOCATION:Kirche Wengi\, Kirche\, Frauchwilstrasse 12\, Wengi
GEO:47.0826914;7.4003667
X-APPLE-STRUCTURED-LOCATION;VALUE=URI;X-ADDRESS=Kirche Wengi Kirche Frauchwilstrasse 12 Wengi;X-APPLE-RADIUS=500;X-TITLE=Kirche\, Frauchwilstrasse 12:geo:7.4003667,47.0826914
END:VEVENT
BEGIN:VEVENT
DTSTART;TZID=Europe/Zurich:20220127T193000
DTEND;TZID=Europe/Zurich:20220127T213000
DTSTAMP:20260419T165057
CREATED:20211206T152528Z
LAST-MODIFIED:20211206T152528Z
UID:18347-1643311800-1643319000@wengi-be.ch
SUMMARY:Erwachsenenbildungsabend
DESCRIPTION:
URL:https://wengi-be.ch/event/erwachsenenbildungsabend/
LOCATION:Kirchgemeindehaus Rapperswil
END:VEVENT
BEGIN:VEVENT
DTSTART;TZID=Europe/Zurich:20220127T120000
DTEND;TZID=Europe/Zurich:20220127T120000
DTSTAMP:20260419T165057
CREATED:20211206T152851Z
LAST-MODIFIED:20211206T152851Z
UID:18349-1643284800-1643284800@wengi-be.ch
SUMMARY:Mittagstisch
DESCRIPTION:
URL:https://wengi-be.ch/event/mittagstisch/
LOCATION:Pfarrstöckli\, Pfarrstöckli\, Frauchwilstrasse\, Wengi
GEO:47.0778651;7.3985196
X-APPLE-STRUCTURED-LOCATION;VALUE=URI;X-ADDRESS=Pfarrstöckli Pfarrstöckli Frauchwilstrasse Wengi;X-APPLE-RADIUS=500;X-TITLE=Pfarrstöckli\, Frauchwilstrasse:geo:7.3985196,47.0778651
END:VEVENT
BEGIN:VEVENT
DTSTART;TZID=Europe/Zurich:20220121T190000
DTEND;TZID=Europe/Zurich:20220121T190000
DTSTAMP:20260419T165057
CREATED:20211206T152726Z
LAST-MODIFIED:20211206T152726Z
UID:17145-1642791600-1642791600@wengi-be.ch
SUMMARY:Taizégottesdienst
DESCRIPTION:
URL:https://wengi-be.ch/event/taizegottesdienst-4-2/
LOCATION:Kirche Wengi\, Kirche\, Frauchwilstrasse 12\, Wengi
GEO:47.0826914;7.4003667
X-APPLE-STRUCTURED-LOCATION;VALUE=URI;X-ADDRESS=Kirche Wengi Kirche Frauchwilstrasse 12 Wengi;X-APPLE-RADIUS=500;X-TITLE=Kirche\, Frauchwilstrasse 12:geo:7.4003667,47.0826914
END:VEVENT
BEGIN:VEVENT
DTSTART;TZID=Europe/Zurich:20220121T140000
DTEND;TZID=Europe/Zurich:20220121T140000
DTSTAMP:20260419T165057
CREATED:20211206T152633Z
LAST-MODIFIED:20211206T152633Z
UID:18348-1642773600-1642773600@wengi-be.ch
SUMMARY:Seniorennachmittag Lotto-Nachmittag
DESCRIPTION:
URL:https://wengi-be.ch/event/seniorennachmittag-lotto-nachmittag/
LOCATION:Pfarrstöckli\, Pfarrstöckli\, Frauchwilstrasse\, Wengi
GEO:47.0778651;7.3985196
X-APPLE-STRUCTURED-LOCATION;VALUE=URI;X-ADDRESS=Pfarrstöckli Pfarrstöckli Frauchwilstrasse Wengi;X-APPLE-RADIUS=500;X-TITLE=Pfarrstöckli\, Frauchwilstrasse:geo:7.3985196,47.0778651
END:VEVENT
BEGIN:VEVENT
DTSTART;TZID=Europe/Zurich:20220116T093000
DTEND;TZID=Europe/Zurich:20220116T093000
DTSTAMP:20260419T165057
CREATED:20211206T152344Z
LAST-MODIFIED:20211206T152344Z
UID:18345-1642325400-1642325400@wengi-be.ch
SUMMARY:Gottesdienst Tauferinnerungsfeier
DESCRIPTION:
URL:https://wengi-be.ch/event/gottesdienst-tauferinnerungsfeier/
LOCATION:Kirche Wengi\, Kirche\, Frauchwilstrasse 12\, Wengi
GEO:47.0826914;7.4003667
X-APPLE-STRUCTURED-LOCATION;VALUE=URI;X-ADDRESS=Kirche Wengi Kirche Frauchwilstrasse 12 Wengi;X-APPLE-RADIUS=500;X-TITLE=Kirche\, Frauchwilstrasse 12:geo:7.4003667,47.0826914
END:VEVENT
BEGIN:VEVENT
DTSTART;TZID=Europe/Zurich:20220101T170000
DTEND;TZID=Europe/Zurich:20220101T170000
DTSTAMP:20260419T165057
CREATED:20201210T075629Z
LAST-MODIFIED:20201210T075629Z
UID:16484-1641056400-1641056400@wengi-be.ch
SUMMARY:Neujahrsgottesdienst mit Apéro
DESCRIPTION:
URL:https://wengi-be.ch/event/neujahrsgottesdienst-mit-apero/
LOCATION:Kirche Wengi\, Kirche\, Frauchwilstrasse 12\, Wengi
GEO:47.0826914;7.4003667
X-APPLE-STRUCTURED-LOCATION;VALUE=URI;X-ADDRESS=Kirche Wengi Kirche Frauchwilstrasse 12 Wengi;X-APPLE-RADIUS=500;X-TITLE=Kirche\, Frauchwilstrasse 12:geo:7.4003667,47.0826914
END:VEVENT
BEGIN:VEVENT
DTSTART;TZID=Europe/Zurich:20211224T153000
DTEND;TZID=Europe/Zurich:20211224T170000
DTSTAMP:20260419T165057
CREATED:20201210T075425Z
LAST-MODIFIED:20201210T075425Z
UID:18311-1640359800-1640365200@wengi-be.ch
SUMMARY:Friedenslicht
DESCRIPTION:
URL:https://wengi-be.ch/event/friedenslicht-2/
LOCATION:Kirche Wengi\, Kirche\, Frauchwilstrasse 12\, Wengi
GEO:47.0826914;7.4003667
X-APPLE-STRUCTURED-LOCATION;VALUE=URI;X-ADDRESS=Kirche Wengi Kirche Frauchwilstrasse 12 Wengi;X-APPLE-RADIUS=500;X-TITLE=Kirche\, Frauchwilstrasse 12:geo:7.4003667,47.0826914
END:VEVENT
BEGIN:VEVENT
DTSTART;TZID=Europe/Zurich:20211217T190000
DTEND;TZID=Europe/Zurich:20211217T190000
DTSTAMP:20260419T165057
CREATED:20201210T075337Z
LAST-MODIFIED:20201210T075337Z
UID:18310-1639767600-1639767600@wengi-be.ch
SUMMARY:Taizegottesdienst
DESCRIPTION:
URL:https://wengi-be.ch/event/taizegottesdienst-3-2/
LOCATION:Kirche Wengi\, Kirche\, Frauchwilstrasse 12\, Wengi
GEO:47.0826914;7.4003667
X-APPLE-STRUCTURED-LOCATION;VALUE=URI;X-ADDRESS=Kirche Wengi Kirche Frauchwilstrasse 12 Wengi;X-APPLE-RADIUS=500;X-TITLE=Kirche\, Frauchwilstrasse 12:geo:7.4003667,47.0826914
END:VEVENT
BEGIN:VEVENT
DTSTART;TZID=Europe/Zurich:20211216T140000
DTEND;TZID=Europe/Zurich:20211216T140000
DTSTAMP:20260419T165058
CREATED:20201210T075252Z
LAST-MODIFIED:20201210T075252Z
UID:16476-1639663200-1639663200@wengi-be.ch
SUMMARY:Seniorenweihnachten Kinder der Schule Wengi
DESCRIPTION:
URL:https://wengi-be.ch/event/seniorenweihnachten-kinder-der-schule-wengi/
LOCATION:Kirche Wengi\, Kirche\, Frauchwilstrasse 12\, Wengi
GEO:47.0826914;7.4003667
X-APPLE-STRUCTURED-LOCATION;VALUE=URI;X-ADDRESS=Kirche Wengi Kirche Frauchwilstrasse 12 Wengi;X-APPLE-RADIUS=500;X-TITLE=Kirche\, Frauchwilstrasse 12:geo:7.4003667,47.0826914
END:VEVENT
BEGIN:VEVENT
DTSTART;TZID=Europe/Zurich:20211211T180000
DTEND;TZID=Europe/Zurich:20211211T180000
DTSTAMP:20260419T165058
CREATED:20201210T075204Z
LAST-MODIFIED:20201210T075204Z
UID:18308-1639245600-1639245600@wengi-be.ch
SUMMARY:Offenes Singen mit KUW 2
DESCRIPTION:
URL:https://wengi-be.ch/event/offenes-singen-mit-kuw-2-2/
LOCATION:Kirche Wengi\, Kirche\, Frauchwilstrasse 12\, Wengi
GEO:47.0826914;7.4003667
X-APPLE-STRUCTURED-LOCATION;VALUE=URI;X-ADDRESS=Kirche Wengi Kirche Frauchwilstrasse 12 Wengi;X-APPLE-RADIUS=500;X-TITLE=Kirche\, Frauchwilstrasse 12:geo:7.4003667,47.0826914
END:VEVENT
BEGIN:VEVENT
DTSTART;TZID=Europe/Zurich:20211209T120000
DTEND;TZID=Europe/Zurich:20211209T120000
DTSTAMP:20260419T165058
CREATED:20201218T105246Z
LAST-MODIFIED:20201218T105246Z
UID:18317-1639051200-1639051200@wengi-be.ch
SUMMARY:Mittagstisch
DESCRIPTION:
URL:https://wengi-be.ch/event/mittagstisch-36-2/
LOCATION:Pfarrstöckli\, Pfarrstöckli\, Frauchwilstrasse\, Wengi
GEO:47.0778651;7.3985196
X-APPLE-STRUCTURED-LOCATION;VALUE=URI;X-ADDRESS=Pfarrstöckli Pfarrstöckli Frauchwilstrasse Wengi;X-APPLE-RADIUS=500;X-TITLE=Pfarrstöckli\, Frauchwilstrasse:geo:7.3985196,47.0778651
END:VEVENT
BEGIN:VEVENT
DTSTART;TZID=Europe/Zurich:20211204T140000
DTEND;TZID=Europe/Zurich:20211204T170000
DTSTAMP:20260419T165058
CREATED:20201210T074806Z
LAST-MODIFIED:20201210T074806Z
UID:18306-1638626400-1638637200@wengi-be.ch
SUMMARY:KiJuKi (Kinder ab 8 Jahren) - Überraschungsprogramm
DESCRIPTION:
URL:https://wengi-be.ch/event/kijuki-kinder-ab-8-jahren-ueberraschungsprogramm-2/
LOCATION:Pfarrstöckli\, Pfarrstöckli\, Frauchwilstrasse\, Wengi
GEO:47.0778651;7.3985196
X-APPLE-STRUCTURED-LOCATION;VALUE=URI;X-ADDRESS=Pfarrstöckli Pfarrstöckli Frauchwilstrasse Wengi;X-APPLE-RADIUS=500;X-TITLE=Pfarrstöckli\, Frauchwilstrasse:geo:7.3985196,47.0778651
END:VEVENT
END:VCALENDAR