BEGIN:VCALENDAR
VERSION:2.0
PRODID:-//Einwohnergemeinde Wengi - ECPv5.14.1//NONSGML v1.0//EN
CALSCALE:GREGORIAN
METHOD:PUBLISH
X-WR-CALNAME:Einwohnergemeinde Wengi
X-ORIGINAL-URL:https://wengi-be.ch
X-WR-CALDESC:Veranstaltungen für Einwohnergemeinde Wengi
REFRESH-INTERVAL;VALUE=DURATION:PT1H
X-Robots-Tag:noindex
X-PUBLISHED-TTL:PT1H
BEGIN:VTIMEZONE
TZID:Europe/Zurich
BEGIN:DAYLIGHT
TZOFFSETFROM:+0100
TZOFFSETTO:+0200
TZNAME:CEST
DTSTART:20210328T010000
END:DAYLIGHT
BEGIN:STANDARD
TZOFFSETFROM:+0200
TZOFFSETTO:+0100
TZNAME:CET
DTSTART:20211031T010000
END:STANDARD
END:VTIMEZONE
BEGIN:VEVENT
DTSTART;TZID=Europe/Zurich:20210820T190000
DTEND;TZID=Europe/Zurich:20210820T190000
DTSTAMP:20260420T012106
CREATED:20201119T163705Z
LAST-MODIFIED:20201119T163705Z
UID:18273-1629486000-1629486000@wengi-be.ch
SUMMARY:Schuleröffnungsgottesdienst KUW
DESCRIPTION:
URL:https://wengi-be.ch/event/schuleroeffnungsgottesdienst-kuw-2/
LOCATION:Kirche Wengi\, Kirche\, Frauchwilstrasse 12\, Wengi
GEO:47.0826914;7.4003667
X-APPLE-STRUCTURED-LOCATION;VALUE=URI;X-ADDRESS=Kirche Wengi Kirche Frauchwilstrasse 12 Wengi;X-APPLE-RADIUS=500;X-TITLE=Kirche\, Frauchwilstrasse 12:geo:7.4003667,47.0826914
END:VEVENT
BEGIN:VEVENT
DTSTART;TZID=Europe/Zurich:20210808T200000
DTEND;TZID=Europe/Zurich:20210808T200000
DTSTAMP:20260420T012106
CREATED:20201119T163551Z
LAST-MODIFIED:20210805T125210Z
UID:16378-1628452800-1628452800@wengi-be.ch
SUMMARY:Abendgottesdienst
DESCRIPTION:
URL:https://wengi-be.ch/event/chorgottesdienst-4/
LOCATION:Kirche Wengi\, Kirche\, Frauchwilstrasse 12\, Wengi
GEO:47.0826914;7.4003667
X-APPLE-STRUCTURED-LOCATION;VALUE=URI;X-ADDRESS=Kirche Wengi Kirche Frauchwilstrasse 12 Wengi;X-APPLE-RADIUS=500;X-TITLE=Kirche\, Frauchwilstrasse 12:geo:7.4003667,47.0826914
END:VEVENT
BEGIN:VEVENT
DTSTART;TZID=Europe/Zurich:20210808T200000
DTEND;TZID=Europe/Zurich:20210808T200000
DTSTAMP:20260420T012106
CREATED:20201119T163551Z
LAST-MODIFIED:20201119T163551Z
UID:18272-1628452800-1628452800@wengi-be.ch
SUMMARY:Abendgottesdienst
DESCRIPTION:
URL:https://wengi-be.ch/event/chorgottesdienst-4-2/
LOCATION:Kirche Wengi\, Kirche\, Frauchwilstrasse 12\, Wengi
GEO:47.0826914;7.4003667
X-APPLE-STRUCTURED-LOCATION;VALUE=URI;X-ADDRESS=Kirche Wengi Kirche Frauchwilstrasse 12 Wengi;X-APPLE-RADIUS=500;X-TITLE=Kirche\, Frauchwilstrasse 12:geo:7.4003667,47.0826914
END:VEVENT
BEGIN:VEVENT
DTSTART;TZID=Europe/Zurich:20210725T093000
DTEND;TZID=Europe/Zurich:20210725T093000
DTSTAMP:20260420T012106
CREATED:20210615T135309Z
LAST-MODIFIED:20210615T135309Z
UID:16827-1627205400-1627205400@wengi-be.ch
SUMMARY:Chorgottesdienst
DESCRIPTION:
URL:https://wengi-be.ch/event/chorgottesdienst-6/
LOCATION:Kirche Wengi\, Kirche\, Frauchwilstrasse 12\, Wengi
GEO:47.0826914;7.4003667
X-APPLE-STRUCTURED-LOCATION;VALUE=URI;X-ADDRESS=Kirche Wengi Kirche Frauchwilstrasse 12 Wengi;X-APPLE-RADIUS=500;X-TITLE=Kirche\, Frauchwilstrasse 12:geo:7.4003667,47.0826914
END:VEVENT
BEGIN:VEVENT
DTSTART;TZID=Europe/Zurich:20210711T093000
DTEND;TZID=Europe/Zurich:20210711T093000
DTSTAMP:20260420T012106
CREATED:20201119T163122Z
LAST-MODIFIED:20201119T163122Z
UID:18270-1625995800-1625995800@wengi-be.ch
SUMMARY:Zu Gast in Grossaffoltern
DESCRIPTION:
URL:https://wengi-be.ch/event/zu-gast-in-grossaffoltern-2/
LOCATION:Kirche Grossaffoltern\, Kirche\, Dorfstrasse 19\, Grossaffoltern\, 3257\, Schweiz
GEO:47.0659888;7.3586248
X-APPLE-STRUCTURED-LOCATION;VALUE=URI;X-ADDRESS=Kirche Grossaffoltern Kirche Dorfstrasse 19 Grossaffoltern 3257 Schweiz;X-APPLE-RADIUS=500;X-TITLE=Kirche\, Dorfstrasse 19:geo:7.3586248,47.0659888
END:VEVENT
BEGIN:VEVENT
DTSTART;TZID=Europe/Zurich:20210704T093000
DTEND;TZID=Europe/Zurich:20210704T093000
DTSTAMP:20260420T012106
CREATED:20201119T163032Z
LAST-MODIFIED:20201119T163032Z
UID:18269-1625391000-1625391000@wengi-be.ch
SUMMARY:Chorgottesdienst
DESCRIPTION:
URL:https://wengi-be.ch/event/chorgottesdienst-3-2/
LOCATION:Kirche Wengi\, Kirche\, Frauchwilstrasse 12\, Wengi
GEO:47.0826914;7.4003667
X-APPLE-STRUCTURED-LOCATION;VALUE=URI;X-ADDRESS=Kirche Wengi Kirche Frauchwilstrasse 12 Wengi;X-APPLE-RADIUS=500;X-TITLE=Kirche\, Frauchwilstrasse 12:geo:7.4003667,47.0826914
END:VEVENT
BEGIN:VEVENT
DTSTART;TZID=Europe/Zurich:20210627T093000
DTEND;TZID=Europe/Zurich:20210627T093000
DTSTAMP:20260420T012106
CREATED:20210615T134941Z
LAST-MODIFIED:20210615T134941Z
UID:18335-1624786200-1624786200@wengi-be.ch
SUMMARY:Chorgottesdienst
DESCRIPTION:
URL:https://wengi-be.ch/event/chorgottesdienst-5-2/
LOCATION:Kirche Wengi\, Kirche\, Frauchwilstrasse 12\, Wengi
GEO:47.0826914;7.4003667
X-APPLE-STRUCTURED-LOCATION;VALUE=URI;X-ADDRESS=Kirche Wengi Kirche Frauchwilstrasse 12 Wengi;X-APPLE-RADIUS=500;X-TITLE=Kirche\, Frauchwilstrasse 12:geo:7.4003667,47.0826914
END:VEVENT
BEGIN:VEVENT
DTSTART;TZID=Europe/Zurich:20210626T083000
DTEND;TZID=Europe/Zurich:20210626T083000
DTSTAMP:20260420T012106
CREATED:20210615T134837Z
LAST-MODIFIED:20210615T134837Z
UID:18334-1624696200-1624696200@wengi-be.ch
SUMMARY:Ausflug in die Magdalena-Einsiedelei
DESCRIPTION:
URL:https://wengi-be.ch/event/ausflug-in-die-magdalena-einsiedelei-2/
LOCATION:Besammlung Bahnhof Schüpfen
END:VEVENT
BEGIN:VEVENT
DTSTART;TZID=Europe/Zurich:20210619T133000
DTEND;TZID=Europe/Zurich:20210619T160000
DTSTAMP:20260420T012106
CREATED:20201119T162433Z
LAST-MODIFIED:20201119T162433Z
UID:18267-1624109400-1624118400@wengi-be.ch
SUMMARY:Kiki (Kinder ab 4 Jahren)
DESCRIPTION:
URL:https://wengi-be.ch/event/kiki-kinder-ab-4-jahren-17-2/
LOCATION:Pfarrstöckli\, Pfarrstöckli\, Frauchwilstrasse\, Wengi
GEO:47.0778651;7.3985196
X-APPLE-STRUCTURED-LOCATION;VALUE=URI;X-ADDRESS=Pfarrstöckli Pfarrstöckli Frauchwilstrasse Wengi;X-APPLE-RADIUS=500;X-TITLE=Pfarrstöckli\, Frauchwilstrasse:geo:7.3985196,47.0778651
END:VEVENT
BEGIN:VEVENT
DTSTART;TZID=Europe/Zurich:20210614T200000
DTEND;TZID=Europe/Zurich:20210614T200000
DTSTAMP:20260420T012106
CREATED:20201119T162136Z
LAST-MODIFIED:20201119T162136Z
UID:16354-1623700800-1623700800@wengi-be.ch
SUMMARY:Kirchgemeindeversammlung
DESCRIPTION:
URL:https://wengi-be.ch/event/kirchgemeindeversammlung-2/
LOCATION:Kirche Wengi\, Kirche\, Frauchwilstrasse 12\, Wengi
GEO:47.0826914;7.4003667
X-APPLE-STRUCTURED-LOCATION;VALUE=URI;X-ADDRESS=Kirche Wengi Kirche Frauchwilstrasse 12 Wengi;X-APPLE-RADIUS=500;X-TITLE=Kirche\, Frauchwilstrasse 12:geo:7.4003667,47.0826914
END:VEVENT
BEGIN:VEVENT
DTSTART;TZID=Europe/Zurich:20210606T093000
DTEND;TZID=Europe/Zurich:20210606T093000
DTSTAMP:20260420T012106
CREATED:20201119T162049Z
LAST-MODIFIED:20201119T162049Z
UID:18264-1622971800-1622971800@wengi-be.ch
SUMMARY:Tauferinnerungsfeier
DESCRIPTION:
URL:https://wengi-be.ch/event/tauferinnerungsfeier-2/
LOCATION:Kirche Wengi\, Kirche\, Frauchwilstrasse 12\, Wengi
GEO:47.0826914;7.4003667
X-APPLE-STRUCTURED-LOCATION;VALUE=URI;X-ADDRESS=Kirche Wengi Kirche Frauchwilstrasse 12 Wengi;X-APPLE-RADIUS=500;X-TITLE=Kirche\, Frauchwilstrasse 12:geo:7.4003667,47.0826914
END:VEVENT
BEGIN:VEVENT
DTSTART;TZID=Europe/Zurich:20210527T120000
DTEND;TZID=Europe/Zurich:20210527T120000
DTSTAMP:20260420T012106
CREATED:20201218T104806Z
LAST-MODIFIED:20201218T104806Z
UID:18313-1622116800-1622116800@wengi-be.ch
SUMMARY:Mittagstisch
DESCRIPTION:
URL:https://wengi-be.ch/event/mittagstisch-25-2/
LOCATION:Gasthof Traube Grossaffoltern\, Dorfstrasse 22\, Grossaffoltern\, 3257
GEO:47.0659767;7.3606583
X-APPLE-STRUCTURED-LOCATION;VALUE=URI;X-ADDRESS=Gasthof Traube Grossaffoltern Dorfstrasse 22 Grossaffoltern 3257;X-APPLE-RADIUS=500;X-TITLE=Dorfstrasse 22:geo:7.3606583,47.0659767
END:VEVENT
BEGIN:VEVENT
DTSTART;TZID=Europe/Zurich:20210523T090000
DTEND;TZID=Europe/Zurich:20210523T090000
DTSTAMP:20260420T012106
CREATED:20201119T161817Z
LAST-MODIFIED:20210416T052310Z
UID:16348-1621760400-1621760400@wengi-be.ch
SUMMARY:Pfingsten\, Konfirmation Wengi / Rapperswil
DESCRIPTION:
URL:https://wengi-be.ch/event/pfingsten-konfirmation-wengi-rapperswil/
LOCATION:Kirche Wengi\, Kirche\, Frauchwilstrasse 12\, Wengi
GEO:47.0826914;7.4003667
X-APPLE-STRUCTURED-LOCATION;VALUE=URI;X-ADDRESS=Kirche Wengi Kirche Frauchwilstrasse 12 Wengi;X-APPLE-RADIUS=500;X-TITLE=Kirche\, Frauchwilstrasse 12:geo:7.4003667,47.0826914
END:VEVENT
BEGIN:VEVENT
DTSTART;TZID=Europe/Zurich:20210516T093000
DTEND;TZID=Europe/Zurich:20210516T093000
DTSTAMP:20260420T012106
CREATED:20201119T161639Z
LAST-MODIFIED:20201119T161639Z
UID:16346-1621157400-1621157400@wengi-be.ch
SUMMARY:Kiki-Gottesdienst (Kinder ab 4 Jahren) mit M. Jeanmarie und I. Schneider
DESCRIPTION:
URL:https://wengi-be.ch/event/kiki-gottesdienst-kinder-ab-4-jahren-mit-m-jeanmarie-und-i-schneider/
LOCATION:Kirche Wengi\, Kirche\, Frauchwilstrasse 12\, Wengi
GEO:47.0826914;7.4003667
X-APPLE-STRUCTURED-LOCATION;VALUE=URI;X-ADDRESS=Kirche Wengi Kirche Frauchwilstrasse 12 Wengi;X-APPLE-RADIUS=500;X-TITLE=Kirche\, Frauchwilstrasse 12:geo:7.4003667,47.0826914
END:VEVENT
BEGIN:VEVENT
DTSTART;TZID=Europe/Zurich:20210515T133000
DTEND;TZID=Europe/Zurich:20210515T160000
DTSTAMP:20260420T012106
CREATED:20201119T161512Z
LAST-MODIFIED:20201119T161512Z
UID:16344-1621085400-1621094400@wengi-be.ch
SUMMARY:Kiki (Kinder ab 4 Jahren)
DESCRIPTION:
URL:https://wengi-be.ch/event/kiki-kinder-ab-4-jahren-16/
LOCATION:Pfarrstöckli\, Pfarrstöckli\, Frauchwilstrasse\, Wengi
GEO:47.0778651;7.3985196
X-APPLE-STRUCTURED-LOCATION;VALUE=URI;X-ADDRESS=Pfarrstöckli Pfarrstöckli Frauchwilstrasse Wengi;X-APPLE-RADIUS=500;X-TITLE=Pfarrstöckli\, Frauchwilstrasse:geo:7.3985196,47.0778651
END:VEVENT
BEGIN:VEVENT
DTSTART;TZID=Europe/Zurich:20210513T200000
DTEND;TZID=Europe/Zurich:20210513T200000
DTSTAMP:20260420T012106
CREATED:20201119T161354Z
LAST-MODIFIED:20201119T161354Z
UID:16342-1620936000-1620936000@wengi-be.ch
SUMMARY:Auffahrt\, Abendgottesdienst
DESCRIPTION:
URL:https://wengi-be.ch/event/auffahrt-abendgottesdienst/
LOCATION:Kirche Wengi\, Kirche\, Frauchwilstrasse 12\, Wengi
GEO:47.0826914;7.4003667
X-APPLE-STRUCTURED-LOCATION;VALUE=URI;X-ADDRESS=Kirche Wengi Kirche Frauchwilstrasse 12 Wengi;X-APPLE-RADIUS=500;X-TITLE=Kirche\, Frauchwilstrasse 12:geo:7.4003667,47.0826914
END:VEVENT
BEGIN:VEVENT
DTSTART;TZID=Europe/Zurich:20210513T090000
DTEND;TZID=Europe/Zurich:20210513T090000
DTSTAMP:20260420T012106
CREATED:20201119T161301Z
LAST-MODIFIED:20210416T051938Z
UID:16340-1620896400-1620896400@wengi-be.ch
SUMMARY:Auffahrt\, Konfirmation Rapperswil
DESCRIPTION:
URL:https://wengi-be.ch/event/auffahrt-konfirmation-rapperswil/
LOCATION:Kirche Rapperswil
END:VEVENT
BEGIN:VEVENT
DTSTART;TZID=Europe/Zurich:20210513T090000
DTEND;TZID=Europe/Zurich:20210513T090000
DTSTAMP:20260420T012106
CREATED:20201119T161301Z
LAST-MODIFIED:20201119T161301Z
UID:18259-1620896400-1620896400@wengi-be.ch
SUMMARY:Auffahrt\, Konfirmation Rapperswil
DESCRIPTION:
URL:https://wengi-be.ch/event/auffahrt-konfirmation-rapperswil-2/
LOCATION:Kirche Rapperswil
END:VEVENT
BEGIN:VEVENT
DTSTART;TZID=Europe/Zurich:20210511T133000
DTEND;TZID=Europe/Zurich:20210511T133000
DTSTAMP:20260420T012106
CREATED:20210416T052244Z
LAST-MODIFIED:20210416T052244Z
UID:18331-1620739800-1620739800@wengi-be.ch
SUMMARY:Wandergruppe
DESCRIPTION:
URL:https://wengi-be.ch/event/wandergruppe-5-2/
LOCATION:Treffpunkt Kirche Wengi
END:VEVENT
BEGIN:VEVENT
DTSTART;TZID=Europe/Zurich:20210509T093000
DTEND;TZID=Europe/Zurich:20210509T093000
DTSTAMP:20260420T012106
CREATED:20201119T161202Z
LAST-MODIFIED:20201119T161202Z
UID:18258-1620552600-1620552600@wengi-be.ch
SUMMARY:Muttertag Gottesdienst
DESCRIPTION:
URL:https://wengi-be.ch/event/muttertag-2/
LOCATION:Kirche Wengi\, Kirche\, Frauchwilstrasse 12\, Wengi
GEO:47.0826914;7.4003667
X-APPLE-STRUCTURED-LOCATION;VALUE=URI;X-ADDRESS=Kirche Wengi Kirche Frauchwilstrasse 12 Wengi;X-APPLE-RADIUS=500;X-TITLE=Kirche\, Frauchwilstrasse 12:geo:7.4003667,47.0826914
END:VEVENT
BEGIN:VEVENT
DTSTART;TZID=Europe/Zurich:20210508T140000
DTEND;TZID=Europe/Zurich:20210508T170000
DTSTAMP:20260420T012106
CREATED:20201119T161117Z
LAST-MODIFIED:20201119T161117Z
UID:18257-1620482400-1620493200@wengi-be.ch
SUMMARY:KiJuKi (Kinder ab 8 Jahren) - Spiele draussen
DESCRIPTION:
URL:https://wengi-be.ch/event/kijuki-kinder-ab-8-jahren-spiele-draussen-2-2/
LOCATION:Schulhaus Reuental\, Reuental 8\, Wengi
GEO:47.0833619;7.4065055
X-APPLE-STRUCTURED-LOCATION;VALUE=URI;X-ADDRESS=Schulhaus Reuental Reuental 8 Wengi;X-APPLE-RADIUS=500;X-TITLE=Reuental 8:geo:7.4065055,47.0833619
END:VEVENT
BEGIN:VEVENT
DTSTART;TZID=Europe/Zurich:20210429T100000
DTEND;TZID=Europe/Zurich:20210429T170000
DTSTAMP:20260420T012106
CREATED:20210322T093501Z
LAST-MODIFIED:20210322T093501Z
UID:18329-1619690400-1619715600@wengi-be.ch
SUMMARY:Tanzen gegen den Corona-Blues
DESCRIPTION:10.00 Uhr – auf dem Parkplatz Wengi \n14.00 Uhr – vordem Kirchgemeindehaus Rapperswil \n17.00 Uhr – in der Kirche Rapperswil
URL:https://wengi-be.ch/event/tanzen-gegen-den-corona-blues-2/
LOCATION:Kirche Wengi\, Kirche\, Frauchwilstrasse 12\, Wengi
GEO:47.0826914;7.4003667
X-APPLE-STRUCTURED-LOCATION;VALUE=URI;X-ADDRESS=Kirche Wengi Kirche Frauchwilstrasse 12 Wengi;X-APPLE-RADIUS=500;X-TITLE=Kirche\, Frauchwilstrasse 12:geo:7.4003667,47.0826914
END:VEVENT
BEGIN:VEVENT
DTSTART;TZID=Europe/Zurich:20210425T093000
DTEND;TZID=Europe/Zurich:20210425T170000
DTSTAMP:20260420T012106
CREATED:20210322T093538Z
LAST-MODIFIED:20210322T093538Z
UID:18330-1619343000-1619370000@wengi-be.ch
SUMMARY:Gottesdienst
DESCRIPTION:
URL:https://wengi-be.ch/event/gottesdienst-8-2/
LOCATION:Kirche Wengi\, Kirche\, Frauchwilstrasse 12\, Wengi
GEO:47.0826914;7.4003667
X-APPLE-STRUCTURED-LOCATION;VALUE=URI;X-ADDRESS=Kirche Wengi Kirche Frauchwilstrasse 12 Wengi;X-APPLE-RADIUS=500;X-TITLE=Kirche\, Frauchwilstrasse 12:geo:7.4003667,47.0826914
END:VEVENT
BEGIN:VEVENT
DTSTART;TZID=Europe/Zurich:20210413T133000
DTEND;TZID=Europe/Zurich:20210413T133000
DTSTAMP:20260420T012106
CREATED:20210322T093256Z
LAST-MODIFIED:20210322T093256Z
UID:18328-1618320600-1618320600@wengi-be.ch
SUMMARY:Wandergruppe
DESCRIPTION:
URL:https://wengi-be.ch/event/wandergruppe-4-2/
LOCATION:Treffpunkt Kirche Wengi
END:VEVENT
BEGIN:VEVENT
DTSTART;TZID=Europe/Zurich:20210411T093000
DTEND;TZID=Europe/Zurich:20210411T093000
DTSTAMP:20260420T012106
CREATED:20201119T160513Z
LAST-MODIFIED:20201119T160513Z
UID:18255-1618133400-1618133400@wengi-be.ch
SUMMARY:Zu Gast in Wengi
DESCRIPTION:
URL:https://wengi-be.ch/event/zu-gast-in-wengi-2/
LOCATION:Kirche Wengi\, Kirche\, Frauchwilstrasse 12\, Wengi
GEO:47.0826914;7.4003667
X-APPLE-STRUCTURED-LOCATION;VALUE=URI;X-ADDRESS=Kirche Wengi Kirche Frauchwilstrasse 12 Wengi;X-APPLE-RADIUS=500;X-TITLE=Kirche\, Frauchwilstrasse 12:geo:7.4003667,47.0826914
END:VEVENT
BEGIN:VEVENT
DTSTART;TZID=Europe/Zurich:20210404T060000
DTEND;TZID=Europe/Zurich:20210404T060000
DTSTAMP:20260420T012106
CREATED:20201119T160338Z
LAST-MODIFIED:20201119T160338Z
UID:16323-1617516000-1617516000@wengi-be.ch
SUMMARY:Osterfrühgottesdienst mit KUW
DESCRIPTION:
URL:https://wengi-be.ch/event/osterfruehgottesdienst-mit-kuw/
LOCATION:Kirche Wengi\, Kirche\, Frauchwilstrasse 12\, Wengi
GEO:47.0826914;7.4003667
X-APPLE-STRUCTURED-LOCATION;VALUE=URI;X-ADDRESS=Kirche Wengi Kirche Frauchwilstrasse 12 Wengi;X-APPLE-RADIUS=500;X-TITLE=Kirche\, Frauchwilstrasse 12:geo:7.4003667,47.0826914
END:VEVENT
BEGIN:VEVENT
DTSTART;TZID=Europe/Zurich:20210402T093000
DTEND;TZID=Europe/Zurich:20210402T093000
DTSTAMP:20260420T012106
CREATED:20201119T160123Z
LAST-MODIFIED:20201119T160123Z
UID:18253-1617355800-1617355800@wengi-be.ch
SUMMARY:Karfreitagsgottesdienst
DESCRIPTION:
URL:https://wengi-be.ch/event/karfreitagsgottesdienst-2/
LOCATION:Kirche Wengi\, Kirche\, Frauchwilstrasse 12\, Wengi
GEO:47.0826914;7.4003667
X-APPLE-STRUCTURED-LOCATION;VALUE=URI;X-ADDRESS=Kirche Wengi Kirche Frauchwilstrasse 12 Wengi;X-APPLE-RADIUS=500;X-TITLE=Kirche\, Frauchwilstrasse 12:geo:7.4003667,47.0826914
END:VEVENT
BEGIN:VEVENT
DTSTART;TZID=Europe/Zurich:20210328T093000
DTEND;TZID=Europe/Zurich:20210328T093000
DTSTAMP:20260420T012106
CREATED:20201119T160004Z
LAST-MODIFIED:20201119T160004Z
UID:18252-1616923800-1616923800@wengi-be.ch
SUMMARY:Gottesdienst
DESCRIPTION:
URL:https://wengi-be.ch/event/palmsonntag-und-goldene-konfirmation-2/
LOCATION:Kirche Wengi\, Kirche\, Frauchwilstrasse 12\, Wengi
GEO:47.0826914;7.4003667
X-APPLE-STRUCTURED-LOCATION;VALUE=URI;X-ADDRESS=Kirche Wengi Kirche Frauchwilstrasse 12 Wengi;X-APPLE-RADIUS=500;X-TITLE=Kirche\, Frauchwilstrasse 12:geo:7.4003667,47.0826914
END:VEVENT
BEGIN:VEVENT
DTSTART;TZID=Europe/Zurich:20210326T140000
DTEND;TZID=Europe/Zurich:20210326T140000
DTSTAMP:20260420T012106
CREATED:20200903T060318Z
LAST-MODIFIED:20200903T060318Z
UID:18241-1616767200-1616767200@wengi-be.ch
SUMMARY:Bilderreise nach Tansania mit Pfarrerin Magdalena Daum
DESCRIPTION:
URL:https://wengi-be.ch/event/bilderreise-nach-tansania-2/
LOCATION:Pfarrstöckli\, Pfarrstöckli\, Frauchwilstrasse\, Wengi
GEO:47.0778651;7.3985196
X-APPLE-STRUCTURED-LOCATION;VALUE=URI;X-ADDRESS=Pfarrstöckli Pfarrstöckli Frauchwilstrasse Wengi;X-APPLE-RADIUS=500;X-TITLE=Pfarrstöckli\, Frauchwilstrasse:geo:7.3985196,47.0778651
END:VEVENT
BEGIN:VEVENT
DTSTART;TZID=Europe/Zurich:20210323T193000
DTEND;TZID=Europe/Zurich:20210323T193000
DTSTAMP:20260420T012106
CREATED:20210119T103227Z
LAST-MODIFIED:20210119T103227Z
UID:16593-1616527800-1616527800@wengi-be.ch
SUMMARY:Wenn das Geld knapp wird (Thema: Gleicher Lohn für ungleiche Arbeit)
DESCRIPTION:
URL:https://wengi-be.ch/event/wenn-das-geld-knapp-wird-thema-gleicher-lohn-fuer-ungleiche-arbeit/
LOCATION:Kirchgemeindehaus Rapperswil
END:VEVENT
END:VCALENDAR