BEGIN:VCALENDAR
VERSION:2.0
PRODID:-//Einwohnergemeinde Wengi - ECPv5.14.1//NONSGML v1.0//EN
CALSCALE:GREGORIAN
METHOD:PUBLISH
X-WR-CALNAME:Einwohnergemeinde Wengi
X-ORIGINAL-URL:https://wengi-be.ch
X-WR-CALDESC:Veranstaltungen für Einwohnergemeinde Wengi
REFRESH-INTERVAL;VALUE=DURATION:PT1H
X-Robots-Tag:noindex
X-PUBLISHED-TTL:PT1H
BEGIN:VTIMEZONE
TZID:Europe/Zurich
BEGIN:DAYLIGHT
TZOFFSETFROM:+0100
TZOFFSETTO:+0200
TZNAME:CEST
DTSTART:20200329T010000
END:DAYLIGHT
BEGIN:STANDARD
TZOFFSETFROM:+0200
TZOFFSETTO:+0100
TZNAME:CET
DTSTART:20201025T010000
END:STANDARD
END:VTIMEZONE
BEGIN:VEVENT
DTSTART;TZID=Europe/Zurich:20201126T120000
DTEND;TZID=Europe/Zurich:20201126T120000
DTSTAMP:20260420T103204
CREATED:20200115T104742Z
LAST-MODIFIED:20201013T143118Z
UID:15484-1606392000-1606392000@wengi-be.ch
SUMMARY:Mittagstisch
DESCRIPTION:
URL:https://wengi-be.ch/event/mittagstisch-29/
LOCATION:Restaurant Traube\, Grossaffoltern
END:VEVENT
BEGIN:VEVENT
DTSTART;TZID=Europe/Zurich:20201121T133000
DTEND;TZID=Europe/Zurich:20201121T160000
DTSTAMP:20260420T103204
CREATED:20200115T092522Z
LAST-MODIFIED:20200115T092522Z
UID:15476-1605965400-1605974400@wengi-be.ch
SUMMARY:KiKi (Kinder ab 4 Jahren)
DESCRIPTION:
URL:https://wengi-be.ch/event/kiki-kinder-ab-4-jahren-15/
LOCATION:Pfarrstöckli\, Pfarrstöckli\, Frauchwilstrasse\, Wengi
GEO:47.0778651;7.3985196
X-APPLE-STRUCTURED-LOCATION;VALUE=URI;X-ADDRESS=Pfarrstöckli Pfarrstöckli Frauchwilstrasse Wengi;X-APPLE-RADIUS=500;X-TITLE=Pfarrstöckli\, Frauchwilstrasse:geo:7.3985196,47.0778651
END:VEVENT
BEGIN:VEVENT
DTSTART;TZID=Europe/Zurich:20201121T133000
DTEND;TZID=Europe/Zurich:20201121T160000
DTSTAMP:20260420T103204
CREATED:20200115T092522Z
LAST-MODIFIED:20200115T092522Z
UID:18232-1605965400-1605974400@wengi-be.ch
SUMMARY:KiKi (Kinder ab 4 Jahren)
DESCRIPTION:
URL:https://wengi-be.ch/event/kiki-kinder-ab-4-jahren-15-2/
LOCATION:Pfarrstöckli\, Pfarrstöckli\, Frauchwilstrasse\, Wengi
GEO:47.0778651;7.3985196
X-APPLE-STRUCTURED-LOCATION;VALUE=URI;X-ADDRESS=Pfarrstöckli Pfarrstöckli Frauchwilstrasse Wengi;X-APPLE-RADIUS=500;X-TITLE=Pfarrstöckli\, Frauchwilstrasse:geo:7.3985196,47.0778651
END:VEVENT
BEGIN:VEVENT
DTSTART;TZID=Europe/Zurich:20201120T170000
DTEND;TZID=Europe/Zurich:20201120T200000
DTSTAMP:20260420T103204
CREATED:20201013T084853Z
LAST-MODIFIED:20201013T084853Z
UID:18242-1605891600-1605902400@wengi-be.ch
SUMMARY:Zäme hocke - Gemeinschaft ha (für Kinder und Jugendliche der 4.-6. Klasse)
DESCRIPTION:
URL:https://wengi-be.ch/event/zaeme-hocke-gemeinschaft-ha-fuer-kinder-und-jugendliche-der-4-6-klasse-2/
LOCATION:Kirchgemeindehaus Rapperswil
END:VEVENT
END:VCALENDAR